BEGIN:VCALENDAR
VERSION:2.0
PRODID:icalendar-ruby
CALSCALE:GREGORIAN
BEGIN:VEVENT
DTSTAMP:20260425T162759Z
UID:65765f50-092e-4b66-bfd9-9d34f7c19adb
DTSTART;VALUE=DATE:20240614
DTEND;VALUE=DATE:20240615
SUMMARY:Southland Primary School Cross Country
END:VEVENT
END:VCALENDAR
