BEGIN:VCALENDAR
VERSION:2.0
PRODID:icalendar-ruby
CALSCALE:GREGORIAN
BEGIN:VEVENT
DTSTAMP:20260425T162835Z
UID:04cc69ad-4c6d-415d-b6a0-4b743f8ef664
DTSTART:20240625T053000Z
DTEND:20240625T063001Z
LOCATION:Otatara School
SUMMARY:Otatara School Matariki Celebration
END:VEVENT
END:VCALENDAR
