BEGIN:VCALENDAR
VERSION:2.0
PRODID:icalendar-ruby
CALSCALE:GREGORIAN
BEGIN:VEVENT
DTSTAMP:20260425T162759Z
UID:4594661c-a57d-4a93-9966-3024c3563b4c
DTSTART:20240626T211000Z
DTEND:20240626T214001Z
DESCRIPTION:All whānau are welcome
SUMMARY:Class Haka Competition
END:VEVENT
END:VCALENDAR
