BEGIN:VCALENDAR
VERSION:2.0
PRODID:icalendar-ruby
CALSCALE:GREGORIAN
BEGIN:VEVENT
DTSTAMP:20260425T162905Z
UID:9ee09f00-6cd7-4a4b-8cb1-cf55ba1b6e44
DTSTART;VALUE=DATE:20240628
DTEND;VALUE=DATE:20240629
SUMMARY:Matariki Holiday
END:VEVENT
END:VCALENDAR
