BEGIN:VCALENDAR
VERSION:2.0
PRODID:icalendar-ruby
CALSCALE:GREGORIAN
BEGIN:VEVENT
DTSTAMP:20260425T162835Z
UID:610219a0-61dc-4d86-9534-a653c354ed46
DTSTART:20240705T060000Z
DTEND:20240705T083001Z
DESCRIPTION:Junior School Disco\, followed by Senior School disco.  
LOCATION:Otatara Community Centre
SUMMARY:School Disco
END:VEVENT
END:VCALENDAR
