BEGIN:VCALENDAR
VERSION:2.0
PRODID:icalendar-ruby
CALSCALE:GREGORIAN
BEGIN:VEVENT
DTSTAMP:20260425T162835Z
UID:245648cc-d582-4d6a-bfd5-9622be013e86
DTSTART:20240826T000000Z
DTEND:20240826T010001Z
DESCRIPTION:We will be on stage performing between 12pm - 1pm as a school f
 or Polyfest.  More details will be sent out closer to the time.
LOCATION:ILT Stadium Southland
SUMMARY:Polyfest - Whole School Performance
END:VEVENT
END:VCALENDAR
