BEGIN:VCALENDAR
VERSION:2.0
PRODID:icalendar-ruby
CALSCALE:GREGORIAN
BEGIN:VEVENT
DTSTAMP:20260425T162758Z
UID:006d3a8e-33b5-4efc-8873-aa9491481aa3
DTSTART;VALUE=DATE:20240910
DTEND;VALUE=DATE:20240911
LOCATION:Otatara School
SUMMARY:Teacher Only Day
END:VEVENT
END:VCALENDAR
