BEGIN:VCALENDAR
VERSION:2.0
PRODID:icalendar-ruby
CALSCALE:GREGORIAN
BEGIN:VEVENT
DTSTAMP:20260419T131231Z
UID:f0f751c1-c736-4861-9d87-7268eb18c04e
DTSTART:20251113T200000Z
DTEND:20251113T233001Z
SUMMARY:Y6 students visits to 2026 secondary schools
END:VEVENT
END:VCALENDAR
