BEGIN:VCALENDAR
VERSION:2.0
PRODID:icalendar-ruby
CALSCALE:GREGORIAN
BEGIN:VEVENT
DTSTAMP:20260419T131146Z
UID:9a772b77-ab87-42db-9ad3-fd528531b9e0
DTSTART;VALUE=DATE:20251119
DTEND;VALUE=DATE:20251120
SUMMARY:Mitre 10 Tough Kids
END:VEVENT
END:VCALENDAR
