BEGIN:VCALENDAR
VERSION:2.0
PRODID:icalendar-ruby
CALSCALE:GREGORIAN
BEGIN:VEVENT
DTSTAMP:20260419T131248Z
UID:541e0044-6eac-4cd5-8a3a-121728f34c17
DTSTART;VALUE=DATE:20251204
DTEND;VALUE=DATE:20251205
SUMMARY:Senior School Triathlon
END:VEVENT
END:VCALENDAR
