BEGIN:VCALENDAR
VERSION:2.0
PRODID:icalendar-ruby
CALSCALE:GREGORIAN
BEGIN:VEVENT
DTSTAMP:20260419T131146Z
UID:9559d7d3-33e1-4881-8b36-c92149ffe6da
DTSTART:20251208T060000Z
DTEND:20251208T080001Z
DESCRIPTION:Learning Centre
SUMMARY:Board Meeting 
END:VEVENT
END:VCALENDAR
