BEGIN:VCALENDAR
VERSION:2.0
PRODID:icalendar-ruby
CALSCALE:GREGORIAN
BEGIN:VEVENT
DTSTAMP:20260419T131248Z
UID:6d6fadf7-d80e-45f3-9f2c-d238453514ae
DTSTART:20251211T043000Z
DTEND:20251211T053001Z
DESCRIPTION:Motorbike Show on the school grounds with Ziffs providing a bar
 becue for our end of year celebration.
SUMMARY:End of Year School Community Celebration
END:VEVENT
END:VCALENDAR
