BEGIN:VCALENDAR
VERSION:2.0
PRODID:icalendar-ruby
CALSCALE:GREGORIAN
BEGIN:VEVENT
DTSTAMP:20260419T131248Z
UID:6df4921d-f51d-44d9-8e67-2223a7ab3758
DTSTART;VALUE=DATE:20251216
DTEND;VALUE=DATE:20251217
SUMMARY:Last day of school for 2025
END:VEVENT
END:VCALENDAR
