BEGIN:VCALENDAR
VERSION:2.0
PRODID:icalendar-ruby
CALSCALE:GREGORIAN
BEGIN:VEVENT
DTSTAMP:20260419T131230Z
UID:6fe3e548-b119-44cd-a87f-3bcb83dcb059
DTSTART;VALUE=DATE:20260203
DTEND;VALUE=DATE:20260204
SUMMARY:Start of school for 2026
END:VEVENT
END:VCALENDAR
