BEGIN:VCALENDAR
VERSION:2.0
PRODID:icalendar-ruby
CALSCALE:GREGORIAN
BEGIN:VEVENT
DTSTAMP:20260419T131230Z
UID:c11dc54b-f51e-4fef-8818-244ca4cc6311
DTSTART:20251128T040000Z
DTEND:20251128T053001Z
SUMMARY:Whānau Rōpu Hangi
END:VEVENT
END:VCALENDAR
